BEGIN:VCALENDAR
VERSION:2.0
PRODID:-//Plone.org//NONSGML plone.app.event//EN
X-WR-TIMEZONE:Europe/Vienna
BEGIN:VEVENT
SUMMARY:FACHVORTRAG KANZLEI PFLAUM WIENER RINDLER OPETNIK "Reduziertes Bau
 en im Lichte baurechtlicher Normen - Spielräume und Grenzen für Architek
 t:innen"
DTSTART;TZID=Europe/Vienna;VALUE=DATE-TIME:20260428T190000
DTEND;TZID=Europe/Vienna;VALUE=DATE-TIME:20260428T210000
DTSTAMP;VALUE=DATE-TIME:20260424T114637Z
UID:b44c78a930274869a9751aa18abb9687@aaf-live-raw.web.kup.tirol
CREATED;VALUE=DATE-TIME:20260321T090418Z
DESCRIPTION:In einem Vortrag von Mag. Petra Rindler und DDr. Madeleine Bur
 ice soll das Spannungsverhältnis zwischen innovativem\, reduziertem Bauen
  und den zwingend einzuhaltenden\, rechtlichen Rahmenbedingungen beleuchte
 n\, Haftungsrisiken aufgezeigt und Lösungsansätze für rechtssichere Ges
 taltungsspielräume diskutiert werden.
LAST-MODIFIED;VALUE=DATE-TIME:20260329T083246Z
URL:https://architekturstiftung.at/zv/laender/wien-noe-bgld/fachvortrag-ka
 nzlei-pflaum-wiener-rindler-opetnik-reduziertes-bauen-im-lichte-baurechtli
 cher-normen-spielraeume-und-grenzen-fuer-architekt-innen
END:VEVENT
BEGIN:VTIMEZONE
TZID:Europe/Vienna
X-LIC-LOCATION:Europe/Vienna
BEGIN:DAYLIGHT
DTSTART;VALUE=DATE-TIME:20260329T030000
TZNAME:CEST
TZOFFSETFROM:+0100
TZOFFSETTO:+0200
END:DAYLIGHT
END:VTIMEZONE
END:VCALENDAR
